BEGIN:VCALENDAR
VERSION:2.0
PRODID:-//Svenska Kemisamfundet - ECPv6.15.19//NONSGML v1.0//EN
CALSCALE:GREGORIAN
METHOD:PUBLISH
X-WR-CALNAME:Svenska Kemisamfundet
X-ORIGINAL-URL:https://kemisamfundet.se
X-WR-CALDESC:Händelser för Svenska Kemisamfundet
REFRESH-INTERVAL;VALUE=DURATION:PT1H
X-Robots-Tag:noindex
X-PUBLISHED-TTL:PT1H
BEGIN:VTIMEZONE
TZID:Europe/Stockholm
BEGIN:DAYLIGHT
TZOFFSETFROM:+0100
TZOFFSETTO:+0200
TZNAME:CEST
DTSTART:20250330T010000
END:DAYLIGHT
BEGIN:STANDARD
TZOFFSETFROM:+0200
TZOFFSETTO:+0100
TZNAME:CET
DTSTART:20251026T010000
END:STANDARD
BEGIN:DAYLIGHT
TZOFFSETFROM:+0100
TZOFFSETTO:+0200
TZNAME:CEST
DTSTART:20260329T010000
END:DAYLIGHT
BEGIN:STANDARD
TZOFFSETFROM:+0200
TZOFFSETTO:+0100
TZNAME:CET
DTSTART:20261025T010000
END:STANDARD
BEGIN:DAYLIGHT
TZOFFSETFROM:+0100
TZOFFSETTO:+0200
TZNAME:CEST
DTSTART:20270328T010000
END:DAYLIGHT
BEGIN:STANDARD
TZOFFSETFROM:+0200
TZOFFSETTO:+0100
TZNAME:CET
DTSTART:20271031T010000
END:STANDARD
END:VTIMEZONE
BEGIN:VEVENT
DTSTART;TZID=Europe/Stockholm:20260421T160000
DTEND;TZID=Europe/Stockholm:20260421T183000
DTSTAMP:20260421T152544
CREATED:20260324T084150Z
LAST-MODIFIED:20260324T084150Z
UID:47436-1776787200-1776796200@kemisamfundet.se
SUMMARY:Inbjudan till årsmöte i Gävlekretsen med föredrag
DESCRIPTION:Inbjudan till årsmöte i Gävlekretsen \nav Hans Ellegren\, tidigare ständig\nsekreterare vid Kungl. Vetenskapsakademien och elev vid Vasaskolan. \nNu är det dags för årsmöte i Gävlekretsen för Svenska kemisamfundet. \nInnan årsmötet kommer vi att få lyssna till Hans Ellegren\, tidigare ständig\nsekreterare vid Kungl. Vetenskapsakademien och elev vid Vasaskolan\,\nsamt professor i evolutionsbiologi vid Uppsala universitet. \nDatum: Tisdag 21 april 2026\nTid: 16.00 (föredrag) följt av årsmöte.\nPlats: Vasaskolan\, ingång via huvudentrén\, Norra Kungsgatan 15. \nAnmälan: Senast söndag 19 april via e-post till camilla.hammarson@gmail.com\neller telefon/sms 073-3366780. \nI samband med årsmötet bjuds det på lättare förtäring.\nEv. allergier anges vid anmälan. \nÅrsmöteshandlingar\n1. Mötets öppnande\n2. Fråga om mötets behöriga utlysande\n3. Val av ordförande och sekreterare för årsmötet\n4. Val av justeringsmän för årsmötesprotokollet\n5. Verksamhetsberättelse och kassarapport\n6. Revisionsberättelse\n7. Ansvarsfrihet för styrelsen\n8. Val av styrelse\n9. Val av revisorer och ledamöter till valnämnd\n10. Övriga frågor\n11. Mötets avslutande\nVälkomna!\nStyrelse
URL:https://kemisamfundet.se/event/inbjudan-till-arsmote-i-gavlekretsen-med-foredrag/
LOCATION:Vasaskolan i Gävle
ATTACH;FMTTYPE=image/png:https://kemisamfundet.se/wp-content/uploads/2026/03/Skarmbild-2026-03-24-093617.png
END:VEVENT
END:VCALENDAR