BEGIN:VCALENDAR
VERSION:2.0
PRODID:-//Svenska Kemisamfundet - ECPv6.15.19//NONSGML v1.0//EN
CALSCALE:GREGORIAN
METHOD:PUBLISH
X-ORIGINAL-URL:https://kemisamfundet.se
X-WR-CALDESC:Händelser för Svenska Kemisamfundet
REFRESH-INTERVAL;VALUE=DURATION:PT1H
X-Robots-Tag:noindex
X-PUBLISHED-TTL:PT1H
BEGIN:VTIMEZONE
TZID:Europe/Stockholm
BEGIN:DAYLIGHT
TZOFFSETFROM:+0100
TZOFFSETTO:+0200
TZNAME:CEST
DTSTART:20210328T010000
END:DAYLIGHT
BEGIN:STANDARD
TZOFFSETFROM:+0200
TZOFFSETTO:+0100
TZNAME:CET
DTSTART:20211031T010000
END:STANDARD
BEGIN:DAYLIGHT
TZOFFSETFROM:+0100
TZOFFSETTO:+0200
TZNAME:CEST
DTSTART:20220327T010000
END:DAYLIGHT
BEGIN:STANDARD
TZOFFSETFROM:+0200
TZOFFSETTO:+0100
TZNAME:CET
DTSTART:20221030T010000
END:STANDARD
BEGIN:DAYLIGHT
TZOFFSETFROM:+0100
TZOFFSETTO:+0200
TZNAME:CEST
DTSTART:20230326T010000
END:DAYLIGHT
BEGIN:STANDARD
TZOFFSETFROM:+0200
TZOFFSETTO:+0100
TZNAME:CET
DTSTART:20231029T010000
END:STANDARD
END:VTIMEZONE
BEGIN:VEVENT
DTSTART;TZID=Europe/Stockholm:20220223T090000
DTEND;TZID=Europe/Stockholm:20220224T160000
DTSTAMP:20260425T214725
CREATED:20210525T095702Z
LAST-MODIFIED:20210525T095702Z
UID:22050-1645606800-1645718400@kemisamfundet.se
SUMMARY:14th International Conference on Biofuel and Bioenergy
DESCRIPTION:We are thrilled to welcome you all to 14th International Conference on Biofuels and Bioenergy during February 23-24\, 2022 Rome\, Italy. The convention especially specializes in the theme Biofuels: For Higher Society. \n 
URL:https://kemisamfundet.se/event/14th-international-conference-on-biofuel-and-bioenergy/
LOCATION:Rome\, Italy
CATEGORIES:Övriga
ATTACH;FMTTYPE=image/jpeg:https://kemisamfundet.se/wp-content/uploads/2021/05/Banner-01.jpg
ORGANIZER;CN="Conference Series":MAILTO:hplc@conferencescanada.org
END:VEVENT
END:VCALENDAR