BEGIN:VCALENDAR
VERSION:2.0
PRODID:-//Svenska Kemisamfundet - ECPv6.15.19//NONSGML v1.0//EN
CALSCALE:GREGORIAN
METHOD:PUBLISH
X-WR-CALNAME:Svenska Kemisamfundet
X-ORIGINAL-URL:https://kemisamfundet.se
X-WR-CALDESC:Händelser för Svenska Kemisamfundet
REFRESH-INTERVAL;VALUE=DURATION:PT1H
X-Robots-Tag:noindex
X-PUBLISHED-TTL:PT1H
BEGIN:VTIMEZONE
TZID:Europe/Stockholm
BEGIN:DAYLIGHT
TZOFFSETFROM:+0100
TZOFFSETTO:+0200
TZNAME:CEST
DTSTART:20220327T010000
END:DAYLIGHT
BEGIN:STANDARD
TZOFFSETFROM:+0200
TZOFFSETTO:+0100
TZNAME:CET
DTSTART:20221030T010000
END:STANDARD
BEGIN:DAYLIGHT
TZOFFSETFROM:+0100
TZOFFSETTO:+0200
TZNAME:CEST
DTSTART:20230326T010000
END:DAYLIGHT
BEGIN:STANDARD
TZOFFSETFROM:+0200
TZOFFSETTO:+0100
TZNAME:CET
DTSTART:20231029T010000
END:STANDARD
BEGIN:DAYLIGHT
TZOFFSETFROM:+0100
TZOFFSETTO:+0200
TZNAME:CEST
DTSTART:20240331T010000
END:DAYLIGHT
BEGIN:STANDARD
TZOFFSETFROM:+0200
TZOFFSETTO:+0100
TZNAME:CET
DTSTART:20241027T010000
END:STANDARD
END:VTIMEZONE
BEGIN:VEVENT
DTSTART;VALUE=DATE:20230607
DTEND;VALUE=DATE:20230609
DTSTAMP:20260423T010654
CREATED:20230523T114724Z
LAST-MODIFIED:20230523T114956Z
UID:29902-1686096000-1686268799@kemisamfundet.se
SUMMARY:CheSSE - European Conference on Chemical Safety in Science Education
DESCRIPTION:Online Resources for Chemical Safety in Science Education\, CheSSE\, is a three-year ERASMUS+ project that started September 1st 2020. \nThe University of Oslo (Norway)\, the University of Helsinki (Finland)\, the University of Ljubljana (Slovenia)\, and Stockholm University (Sweden) run the project. \nThe aim of CheSSE is to develop condensed\, up-to date\, online resources about chemical safety in science education. A desired long-term goal is that teachers feel competent and safe when handling chemicals and managing school laboratories. \nThe material will be developed through discussions and workshops\, and published on chesse.org in the participating organizations’ languages and in English.
URL:https://kemisamfundet.se/event/chesse-european-conference-on-chemical-safety-in-science-education/
LOCATION:helsingfors\, Finland
ATTACH;FMTTYPE=image/jpeg:https://kemisamfundet.se/wp-content/uploads/2023/05/chesse-logga-1.jpg
END:VEVENT
END:VCALENDAR