BEGIN:VCALENDAR
VERSION:2.0
PRODID:-//Svenska Kemisamfundet - ECPv6.15.19//NONSGML v1.0//EN
CALSCALE:GREGORIAN
METHOD:PUBLISH
X-WR-CALNAME:Svenska Kemisamfundet
X-ORIGINAL-URL:https://kemisamfundet.se
X-WR-CALDESC:Händelser för Svenska Kemisamfundet
REFRESH-INTERVAL;VALUE=DURATION:PT1H
X-Robots-Tag:noindex
X-PUBLISHED-TTL:PT1H
BEGIN:VTIMEZONE
TZID:Europe/Stockholm
BEGIN:DAYLIGHT
TZOFFSETFROM:+0100
TZOFFSETTO:+0200
TZNAME:CEST
DTSTART:20200329T010000
END:DAYLIGHT
BEGIN:STANDARD
TZOFFSETFROM:+0200
TZOFFSETTO:+0100
TZNAME:CET
DTSTART:20201025T010000
END:STANDARD
BEGIN:DAYLIGHT
TZOFFSETFROM:+0100
TZOFFSETTO:+0200
TZNAME:CEST
DTSTART:20210328T010000
END:DAYLIGHT
BEGIN:STANDARD
TZOFFSETFROM:+0200
TZOFFSETTO:+0100
TZNAME:CET
DTSTART:20211031T010000
END:STANDARD
BEGIN:DAYLIGHT
TZOFFSETFROM:+0100
TZOFFSETTO:+0200
TZNAME:CEST
DTSTART:20220327T010000
END:DAYLIGHT
BEGIN:STANDARD
TZOFFSETFROM:+0200
TZOFFSETTO:+0100
TZNAME:CET
DTSTART:20221030T010000
END:STANDARD
END:VTIMEZONE
BEGIN:VEVENT
DTSTART;VALUE=DATE:20210828
DTEND;VALUE=DATE:20210830
DTSTAMP:20260426T022408
CREATED:20210310T140109Z
LAST-MODIFIED:20210809T073535Z
UID:20949-1630108800-1630281599@kemisamfundet.se
SUMMARY:SKR-golfen 2021
DESCRIPTION:SKR-golfen 2021 spelas på Ombergs golfklubb utanför Ödeshög i Östergötland\, söndagen den 29 augusti 2021\, med inspel och middag dagen innan. Deltagarna spelar om Floras pokal och för damerna även en inteckning i Reins vandringspokal. Det kommer även att vara tävlingar om längsta drive och närmast hål. \nVar? Ombergs golfklubb utanför Ödeshög i Östergötland \nNär? Söndagen den 29 augusti 2021\, med inspel och middag dagen innan. \nDen första upplagan av SKR-golfen spelades 1987 då på Åtvidabergs golfklubb. \nNormalt byter SKR-golfen plats varje år men då vi under förra årets tävling trivdes så bra på Ombergs GK och då även vistelsen var väl arrangerad med hänsyn till smittorisk blev vi kvar. Ombergs golfklubb är en komplett anläggning med en fin golfbana\, bra boende och en utmärkt restaurang. \nDe som vill kan komma tidigare och spela banan på lördagen. SKR har reserverat fem starttider kring lunch\, från 12.24 till 13.00. Som traditionen bjuder ordnar vi en gemensam middag på lördagskvällen den 28 augusti\, cirka 19.30. \nPå söndagen spelas sedan tävlingen över 18 hål (poängbogey) med första start klockan 10:27. Vi avslutar med lunch och prisutdelning. \nKostnad \n\n1 995 kr/person i dubbelrum (middag\, övernattning i dubbelrum\, frukost och tävlings-greenfee)\nEnkelrumstillägg: 500 kr.\n700 kr/person om man endast deltar i tävlingen.\nGreenfee på lördagen och lunchen på söndagen betalas separat.\n\nAnmälan till Gunnar senast den 20:e juli via gunnar.lager@lagusa.se Ange namn\, golf-ID och om du önskar övernattning (enkel eller dubbelrum?) Betalning sker vid utcheckningen.
URL:https://kemisamfundet.se/event/skr-golfen-2021/
LOCATION:Ombergs Golf\, Stora Lund\, Ödeshög\, 599 93\, Sverige
CATEGORIES:Kemisamfundet
END:VEVENT
END:VCALENDAR