BEGIN:VCALENDAR
VERSION:2.0
PRODID:-//Svenska Kemisamfundet - ECPv6.15.19//NONSGML v1.0//EN
CALSCALE:GREGORIAN
METHOD:PUBLISH
X-ORIGINAL-URL:https://kemisamfundet.se
X-WR-CALDESC:Händelser för Svenska Kemisamfundet
REFRESH-INTERVAL;VALUE=DURATION:PT1H
X-Robots-Tag:noindex
X-PUBLISHED-TTL:PT1H
BEGIN:VTIMEZONE
TZID:Europe/Stockholm
BEGIN:DAYLIGHT
TZOFFSETFROM:+0100
TZOFFSETTO:+0200
TZNAME:CEST
DTSTART:20200329T010000
END:DAYLIGHT
BEGIN:STANDARD
TZOFFSETFROM:+0200
TZOFFSETTO:+0100
TZNAME:CET
DTSTART:20201025T010000
END:STANDARD
BEGIN:DAYLIGHT
TZOFFSETFROM:+0100
TZOFFSETTO:+0200
TZNAME:CEST
DTSTART:20210328T010000
END:DAYLIGHT
BEGIN:STANDARD
TZOFFSETFROM:+0200
TZOFFSETTO:+0100
TZNAME:CET
DTSTART:20211031T010000
END:STANDARD
BEGIN:DAYLIGHT
TZOFFSETFROM:+0100
TZOFFSETTO:+0200
TZNAME:CEST
DTSTART:20220327T010000
END:DAYLIGHT
BEGIN:STANDARD
TZOFFSETFROM:+0200
TZOFFSETTO:+0100
TZNAME:CET
DTSTART:20221030T010000
END:STANDARD
END:VTIMEZONE
BEGIN:VEVENT
DTSTART;TZID=Europe/Stockholm:20210519T183000
DTEND;TZID=Europe/Stockholm:20210519T200000
DTSTAMP:20260425T174231
CREATED:20210507T050440Z
LAST-MODIFIED:20210507T060158Z
UID:21858-1621449000-1621454400@kemisamfundet.se
SUMMARY:Göteborgskretsen bjuder in till Årsmöte
DESCRIPTION:Effekterna av covid-19 pandemin är fortfarande högst påtagliga och Göteborgskretsen väljer därför att även i år hålla årsmöte utomhus. Vi träffas på gården framför Kemihuset på Chalmers. Vid dåligt väder flyttar vi in i kemientrén och genomför mötet med säkert corona-avstånd. Vi hoppas dock på uppehåll så att vi kan vara ute. \nVarmt välkommen att delta i årsmötet\, där vi kommer att berätta vad vi hoppas kunna göra när vaccinationerna är genomförda och pandemin är under kontroll\, redogöra för ekonomin i kretsen\, samt välja en ny styrelse! Utöver sedvanliga årsmötesförhandlingar kommer det också bli tipspromenad.\nAnmälan senast 17 maj via epost till: abmaria@chalmers.se \nVälkommen önskar Göteborgskretsens styrelse!
URL:https://kemisamfundet.se/event/goteborgskretsen-bjuder-in-till-arsmote-2/
LOCATION:Chalmers\, Kemigården\, Chalmers\, Göteborg
CATEGORIES:Kemisamfundet,Kretsevenemang
ATTACH;FMTTYPE=image/png:https://kemisamfundet.se/wp-content/uploads/2019/05/styrelse-klubba1.png
END:VEVENT
END:VCALENDAR