BEGIN:VCALENDAR
VERSION:2.0
PRODID:-//Svenska Kemisamfundet - ECPv6.15.19//NONSGML v1.0//EN
CALSCALE:GREGORIAN
METHOD:PUBLISH
X-WR-CALNAME:Svenska Kemisamfundet
X-ORIGINAL-URL:https://kemisamfundet.se
X-WR-CALDESC:Händelser för Svenska Kemisamfundet
REFRESH-INTERVAL;VALUE=DURATION:PT1H
X-Robots-Tag:noindex
X-PUBLISHED-TTL:PT1H
BEGIN:VTIMEZONE
TZID:Europe/Stockholm
BEGIN:DAYLIGHT
TZOFFSETFROM:+0100
TZOFFSETTO:+0200
TZNAME:CEST
DTSTART:20250330T010000
END:DAYLIGHT
BEGIN:STANDARD
TZOFFSETFROM:+0200
TZOFFSETTO:+0100
TZNAME:CET
DTSTART:20251026T010000
END:STANDARD
BEGIN:DAYLIGHT
TZOFFSETFROM:+0100
TZOFFSETTO:+0200
TZNAME:CEST
DTSTART:20260329T010000
END:DAYLIGHT
BEGIN:STANDARD
TZOFFSETFROM:+0200
TZOFFSETTO:+0100
TZNAME:CET
DTSTART:20261025T010000
END:STANDARD
BEGIN:DAYLIGHT
TZOFFSETFROM:+0100
TZOFFSETTO:+0200
TZNAME:CEST
DTSTART:20270328T010000
END:DAYLIGHT
BEGIN:STANDARD
TZOFFSETFROM:+0200
TZOFFSETTO:+0100
TZNAME:CET
DTSTART:20271031T010000
END:STANDARD
END:VTIMEZONE
BEGIN:VEVENT
DTSTART;VALUE=DATE:20260819
DTEND;VALUE=DATE:20260822
DTSTAMP:20260423T031230
CREATED:20260422T123720Z
LAST-MODIFIED:20260422T124827Z
UID:47687-1787097600-1787356799@kemisamfundet.se
SUMMARY:Teknik- och vetenskapshistoriska dagar 2026
DESCRIPTION:Göteborg 19–21 augusti 2026. Tema: informationsbehandling\n\nNationalkommittén för teknik- och vetenskapshistoria (SNTV) vid KVA hälsar välkommen till Teknik- och vetenskapshistoriska dagar den 19–21 augusti 2026 i Göteborg med tema informationsbehandling. Konferensen äger rum på Göteborgs universitet och Chalmers tekniska högskola. \nÅrets keynotetalare är Matthew Daniel Eddy\, Professor in the History and Philosophy of Science\, Durham University och Nanna Bonde Thylstrup\, Associate Professor in Modern and Digital Culture\, Københavns universitet
URL:https://kemisamfundet.se/event/teknik-och-vetenskapshistoriska-dagar-2026/
LOCATION:Göteborg
CATEGORIES:Övriga
ATTACH;FMTTYPE=image/jpeg:https://kemisamfundet.se/wp-content/uploads/2026/04/mammela-tram-8277360.jpg
END:VEVENT
END:VCALENDAR