BEGIN:VCALENDAR
VERSION:2.0
PRODID:-//Svenska Kemisamfundet - ECPv6.15.19//NONSGML v1.0//EN
CALSCALE:GREGORIAN
METHOD:PUBLISH
X-ORIGINAL-URL:https://kemisamfundet.se
X-WR-CALDESC:Händelser för Svenska Kemisamfundet
REFRESH-INTERVAL;VALUE=DURATION:PT1H
X-Robots-Tag:noindex
X-PUBLISHED-TTL:PT1H
BEGIN:VTIMEZONE
TZID:Europe/Stockholm
BEGIN:DAYLIGHT
TZOFFSETFROM:+0100
TZOFFSETTO:+0200
TZNAME:CEST
DTSTART:20220327T010000
END:DAYLIGHT
BEGIN:STANDARD
TZOFFSETFROM:+0200
TZOFFSETTO:+0100
TZNAME:CET
DTSTART:20221030T010000
END:STANDARD
BEGIN:DAYLIGHT
TZOFFSETFROM:+0100
TZOFFSETTO:+0200
TZNAME:CEST
DTSTART:20230326T010000
END:DAYLIGHT
BEGIN:STANDARD
TZOFFSETFROM:+0200
TZOFFSETTO:+0100
TZNAME:CET
DTSTART:20231029T010000
END:STANDARD
BEGIN:DAYLIGHT
TZOFFSETFROM:+0100
TZOFFSETTO:+0200
TZNAME:CEST
DTSTART:20240331T010000
END:DAYLIGHT
BEGIN:STANDARD
TZOFFSETFROM:+0200
TZOFFSETTO:+0100
TZNAME:CET
DTSTART:20241027T010000
END:STANDARD
END:VTIMEZONE
BEGIN:VEVENT
DTSTART;TZID=Europe/Stockholm:20230625T080000
DTEND;TZID=Europe/Stockholm:20230628T170000
DTSTAMP:20260425T122608
CREATED:20230320T081841Z
LAST-MODIFIED:20230329T113056Z
UID:28694-1687680000-1687971600@kemisamfundet.se
SUMMARY:7th International Conference on Hypervalent Iodine Chemistry ICHIC
DESCRIPTION:Welcome to ICHIC 7\, which will take place at Stockholm University in June 2023.\nThe program is composed of 15 invited speakers by established organic chemists as well as younger rising stars\, selected oral contributions\, poster sessions and social activities.\nRegistration and abstracts are invited by April 1\, 2023. For more information\, see the website. \nOn behalf of the organizing committee: Berit Olofsson\, Jerome Waser\, Thomas Wirth and Viktor Zhdankin.
URL:https://kemisamfundet.se/event/7th-international-conference-on-hypervalent-iodine-chemistry-ichic/
LOCATION:Stockholm University\, Campus Albano\, Greta Arwidssons Väg 30\, Stockholm\, 11347\, Sverige
ATTACH;FMTTYPE=image/png:https://kemisamfundet.se/wp-content/uploads/2023/03/ichic7-bild.png
END:VEVENT
END:VCALENDAR