BEGIN:VCALENDAR
VERSION:2.0
PRODID:-//Svenska Kemisamfundet - ECPv6.15.19//NONSGML v1.0//EN
CALSCALE:GREGORIAN
METHOD:PUBLISH
X-WR-CALNAME:Svenska Kemisamfundet
X-ORIGINAL-URL:https://kemisamfundet.se
X-WR-CALDESC:Händelser för Svenska Kemisamfundet
REFRESH-INTERVAL;VALUE=DURATION:PT1H
X-Robots-Tag:noindex
X-PUBLISHED-TTL:PT1H
BEGIN:VTIMEZONE
TZID:Europe/Stockholm
BEGIN:DAYLIGHT
TZOFFSETFROM:+0100
TZOFFSETTO:+0200
TZNAME:CEST
DTSTART:20210328T010000
END:DAYLIGHT
BEGIN:STANDARD
TZOFFSETFROM:+0200
TZOFFSETTO:+0100
TZNAME:CET
DTSTART:20211031T010000
END:STANDARD
BEGIN:DAYLIGHT
TZOFFSETFROM:+0100
TZOFFSETTO:+0200
TZNAME:CEST
DTSTART:20220327T010000
END:DAYLIGHT
BEGIN:STANDARD
TZOFFSETFROM:+0200
TZOFFSETTO:+0100
TZNAME:CET
DTSTART:20221030T010000
END:STANDARD
BEGIN:DAYLIGHT
TZOFFSETFROM:+0100
TZOFFSETTO:+0200
TZNAME:CEST
DTSTART:20230326T010000
END:DAYLIGHT
BEGIN:STANDARD
TZOFFSETFROM:+0200
TZOFFSETTO:+0100
TZNAME:CET
DTSTART:20231029T010000
END:STANDARD
END:VTIMEZONE
BEGIN:VEVENT
DTSTART;TZID=Europe/Stockholm:20220926T130000
DTEND;TZID=Europe/Stockholm:20220926T180000
DTSTAMP:20260423T095755
CREATED:20220623T094022Z
LAST-MODIFIED:20220627T114518Z
UID:24955-1664197200-1664215200@kemisamfundet.se
SUMMARY:The Mistra SafeChem programme symposium on green and sustainable chemistry 
DESCRIPTION:Mistra SafeChem is proud to present these internationally known keynote speakers at the Mistra SafeChem Programme Symposium: Professor Paul Anastas\, known as The father of green chemistry\, Professor Lutz Ackermann\, Göttingen\, and Jason Snape\, AstraZeneca. \nWelcome to listen to and meet the speakers\, and to learn more about the work to reduce or eliminate toxic chemicals and promote a shift to a sustainable society. \nKeynote speakers \nGreen chemistry for a sustainable world \nPaul Anastas\, Director of the Center for Green Chemistry and Green Engineering at Yale University\, known as The father of green chemistry \nSustainable molecular synthesis by catalyzed C-H activation \nLutz Ackermann\, Professor at the Georg-August-University Göttingen. Founder and Director of the Woehler Research Institute for Sustainable Chemistry. \nDriving sustainable innovation across the pharmaceutical product life cycle and value chain \nJason Snape\, Global Head of Environmental Protection\, AstraZeneca \nSpeakers from Mistra SafeChem \nSustainable textile recycling: Innovative processes and products \nAji Mathew\, Professor in materials chemistry\, Stockholm University \nDesigner enzymes for safe and sustainable chemical synthesis  \nPer-Olof Syrén\, Associated professor in chemistry for life sciences\, KTH \nMinimizing hazards and risks in chemical process development: Tools\, applications and potential for impact  \nIan Cotgreave\, Professor in toxicology\, RISE \n  \nThe Mistra SafeChem Programme Symposium is held at AstraZeneca in Mölndal. If you cannot participate in person\, you can also listen in digitally. \n  \nDate and time: September 26\, 2022\, from 13.00 to 18:00 \nVenue: AstraZeneca (Mölndal) or Zoom \nLast day for registration: September 5\, 2022 \nRead more and register: https://www.ivl.se/toppmeny/evenemang/2022-09-26-mistra-safechem-programme-symposium.html \n 
URL:https://kemisamfundet.se/event/the-mistra-safechem-programme-symposium-on-green-and-sustainable-chemistry/
LOCATION:AstraZeneca Mölndal och online\, Pepparedsleden 1\, Mölndal\, 431 83\, Sverige
ATTACH;FMTTYPE=image/jpeg:https://kemisamfundet.se/wp-content/uploads/2022/06/IVL-symposium.jpg
END:VEVENT
END:VCALENDAR