BEGIN:VCALENDAR
VERSION:2.0
PRODID:-//Svenska Kemisamfundet - ECPv6.15.19//NONSGML v1.0//EN
CALSCALE:GREGORIAN
METHOD:PUBLISH
X-WR-CALNAME:Svenska Kemisamfundet
X-ORIGINAL-URL:https://kemisamfundet.se
X-WR-CALDESC:Händelser för Svenska Kemisamfundet
REFRESH-INTERVAL;VALUE=DURATION:PT1H
X-Robots-Tag:noindex
X-PUBLISHED-TTL:PT1H
BEGIN:VTIMEZONE
TZID:Europe/Stockholm
BEGIN:DAYLIGHT
TZOFFSETFROM:+0100
TZOFFSETTO:+0200
TZNAME:CEST
DTSTART:20250330T010000
END:DAYLIGHT
BEGIN:STANDARD
TZOFFSETFROM:+0200
TZOFFSETTO:+0100
TZNAME:CET
DTSTART:20251026T010000
END:STANDARD
BEGIN:DAYLIGHT
TZOFFSETFROM:+0100
TZOFFSETTO:+0200
TZNAME:CEST
DTSTART:20260329T010000
END:DAYLIGHT
BEGIN:STANDARD
TZOFFSETFROM:+0200
TZOFFSETTO:+0100
TZNAME:CET
DTSTART:20261025T010000
END:STANDARD
BEGIN:DAYLIGHT
TZOFFSETFROM:+0100
TZOFFSETTO:+0200
TZNAME:CEST
DTSTART:20270328T010000
END:DAYLIGHT
BEGIN:STANDARD
TZOFFSETFROM:+0200
TZOFFSETTO:+0100
TZNAME:CET
DTSTART:20271031T010000
END:STANDARD
END:VTIMEZONE
BEGIN:VEVENT
DTSTART;TZID=Europe/Stockholm:20260205T150000
DTEND;TZID=Europe/Stockholm:20260205T170000
DTSTAMP:20260423T000849
CREATED:20251219T094918Z
LAST-MODIFIED:20251219T095128Z
UID:46905-1770303600-1770310800@kemisamfundet.se
SUMMARY:KVA: Är din medicin äkta? Om handeln med förfalskade läkemedel
DESCRIPTION:Den som köper förfalskade läkemedel kan i sin hand få allt från verkningslösa produkter till gravt hälsovådliga\, och hundratusentals människor i världen dör årligen till följd av förfalskade läkemedel. Handeln med förfalskade läkemedel omsätter astronomiska belopp. Den internationella polisiära organisationen INTERPOL genomför återkommande tillslag i Sverige liksom i övriga världen för att bekämpa handeln. Vid ingripandena beslagtas falska läkemedel och insatser görs också för att stänga webbplatser som saluför de illegala läkemedlen. Från Sverige deltar Läkemedelsverket\, Tullverket och den svenska avdelningen för INTERPOL. Regeringen har uppdragit åt Läkemedelsverket att kartlägga och analysera handeln med förfalskade läkemedel. Vid seminariet berättar Läkemedelsverket om uppdraget. Vi får också ta del av forskningens och brottsbekämpningens perspektiv på den illegala handeln och konsekvenserna för konsumenterna. I samband med seminariet lanseras ett nytt nummer av Vetenskapen säger\, som handlar om läkemedel och falska läkemedel. Det är det senaste numret i Vetenskapsakademiens populärvetenskapliga skriftserie\, vars syfte är att sprida vetenskapsbaserad information om aktuella och viktiga samhällsfrågor.
URL:https://kemisamfundet.se/event/kva-ar-din-medicin-akta-om-handeln-med-forfalskade-lakemedel/
LOCATION:Kungl. Vetenskapsakademien\, Lilla Frescativägen 4A\, 114 18 Stockholm\, Sverige
CATEGORIES:Övriga
ATTACH;FMTTYPE=image/jpeg:https://kemisamfundet.se/wp-content/uploads/2025/12/kva-lakemedel-event-5-feb-2026.jpg
END:VEVENT
END:VCALENDAR