BEGIN:VCALENDAR
VERSION:2.0
PRODID:-//Svenska Kemisamfundet - ECPv6.15.19//NONSGML v1.0//EN
CALSCALE:GREGORIAN
METHOD:PUBLISH
X-ORIGINAL-URL:https://kemisamfundet.se
X-WR-CALDESC:Händelser för Svenska Kemisamfundet
REFRESH-INTERVAL;VALUE=DURATION:PT1H
X-Robots-Tag:noindex
X-PUBLISHED-TTL:PT1H
BEGIN:VTIMEZONE
TZID:Europe/Stockholm
BEGIN:DAYLIGHT
TZOFFSETFROM:+0100
TZOFFSETTO:+0200
TZNAME:CEST
DTSTART:20220327T010000
END:DAYLIGHT
BEGIN:STANDARD
TZOFFSETFROM:+0200
TZOFFSETTO:+0100
TZNAME:CET
DTSTART:20221030T010000
END:STANDARD
BEGIN:DAYLIGHT
TZOFFSETFROM:+0100
TZOFFSETTO:+0200
TZNAME:CEST
DTSTART:20230326T010000
END:DAYLIGHT
BEGIN:STANDARD
TZOFFSETFROM:+0200
TZOFFSETTO:+0100
TZNAME:CET
DTSTART:20231029T010000
END:STANDARD
BEGIN:DAYLIGHT
TZOFFSETFROM:+0100
TZOFFSETTO:+0200
TZNAME:CEST
DTSTART:20240331T010000
END:DAYLIGHT
BEGIN:STANDARD
TZOFFSETFROM:+0200
TZOFFSETTO:+0100
TZNAME:CET
DTSTART:20241027T010000
END:STANDARD
END:VTIMEZONE
BEGIN:VEVENT
DTSTART;TZID=Europe/Stockholm:20230421T100000
DTEND;TZID=Europe/Stockholm:20230421T120000
DTSTAMP:20260424T182815
CREATED:20230310T110825Z
LAST-MODIFIED:20230321T160650Z
UID:24359-1682071200-1682078400@kemisamfundet.se
SUMMARY:Temadag i miljökemi - Utmaningar med PFAS - från industri till myndighetsperspektiv
DESCRIPTION:Temadag i miljökemi fredagen den 21 april 2023 kl. 10.00 – 12.00 online\nUtmaningar med PFAS – från industri till myndighetsperspektiv\n  \nPFAS är ett samlingsnamn för en stor och komplex ämnesgrupp på mer än 10 000 identifierade ämnen med en bred användning i samhället. Gemensamt för alla PFAS är att de inte bryts ned i miljön. Spridningen av PFAS från samhället till miljön är omfattande och kan ha skadliga effekter både för människa och miljö. \nI dagarna presenteras ett nytt begränsningsförslag i syfte att minska spridningen av PFAS-ämnen till miljön. När regleringen träder i kraft kommer konsekvenserna av utfasningen av PFAS att skapa stora utmaningar inom industri och återvinning m.m. \n  \nProgram \n10.00 – 10.20   PFAS i papper och sediment utanför papperstillverkning  \nAnvändningen av PFAS i pappersprodukter kan vara en källa exponering och utsläpp i miljön vid tillverkning och hantering. Två studier på pappersprodukter och sediment nära pappersindustrin kommer presenteras tillsammans med de utmaningar som uppstår när tänkbara PFAS är många och analytiska standarder delvis saknas. \nAnna Kärrman\, Docent vid Örebros Universitet (ÖRU). \n10.25 – 10.40   Utmaningarna med PFAS inom återvinningen \nVar återfinns PFAS i komplexa återvinningsströmmar och hur olika definitioner påverkar val av PFAS reningsteknologi. \nDr. David Karis\, Project manager R&D på Stena recycling. \n10.45 – 11.00   Det är de små framstegen som banar väg för de stora förändringarna \nUnder 2022 började vi kartlägga vilka av de produkter vi säljer som innehåller PFAS. I ett sortiment bestående av 10 000 produkter kändes det som ”mission impossible” och ett arbete som aldrig någonsin skulle bli klart. Men under resans gång har vi nåtts av insikten att det i många fall är de små framstegen som banar väg för de stora förändringarna. \nTobias Wendrup\, Quality and sustainability manager Order Nordic AB (Distributör av köksutrustning).                                    \n11.10 – 11.25     Förslag till bred PFAS-begränsning i EU \nNytt begränsningsförslag i syfte att minska spridningen av PFAS-ämnen till miljön. Spridningen av PFAS från samhället till miljön är omfattande och kan ha skadliga effekter både för människa och miljö. \nJenny Ivarsson\, Strategisk rådgivare vid Kemikalieinspektionen (KemI). \n11.35 – 11.50     PFAS i livsmedel \nUtifrån EFSAs hälsobaserade riktvärde\, vad får vi i oss via maten? – Pågående kartläggningsarbete och gränsvärden för PFAS i mat och dricksvatten. \nEmelie Lindfeldt\, Toxikolog vid Livsmedelsverket (SLV). \n11.50 – 12.00  Diskussion. Moderator Jörgen Magnér \nTemadagen är online och gratis. \n>> Till anmälan \nVälkomna!\nSektionen för miljökemi\,\nSvenska Kemisamfundet
URL:https://kemisamfundet.se/event/temadag-i-miljokemi-utmaningar-med-pfas-fran-industri-till-myndighetsperspektiv/
LOCATION:Zoom\, online\, Stockholm\, Sverige
CATEGORIES:Kemisamfundet
ATTACH;FMTTYPE=image/png:https://kemisamfundet.se/wp-content/uploads/2023/02/PFAS-reglering_Ny-version-1.png
END:VEVENT
END:VCALENDAR