BEGIN:VCALENDAR
VERSION:2.0
PRODID:-//Svenska Kemisamfundet - ECPv6.15.19//NONSGML v1.0//EN
CALSCALE:GREGORIAN
METHOD:PUBLISH
X-WR-CALNAME:Svenska Kemisamfundet
X-ORIGINAL-URL:https://kemisamfundet.se
X-WR-CALDESC:Händelser för Svenska Kemisamfundet
REFRESH-INTERVAL;VALUE=DURATION:PT1H
X-Robots-Tag:noindex
X-PUBLISHED-TTL:PT1H
BEGIN:VTIMEZONE
TZID:Europe/Stockholm
BEGIN:DAYLIGHT
TZOFFSETFROM:+0100
TZOFFSETTO:+0200
TZNAME:CEST
DTSTART:20200329T010000
END:DAYLIGHT
BEGIN:STANDARD
TZOFFSETFROM:+0200
TZOFFSETTO:+0100
TZNAME:CET
DTSTART:20201025T010000
END:STANDARD
BEGIN:DAYLIGHT
TZOFFSETFROM:+0100
TZOFFSETTO:+0200
TZNAME:CEST
DTSTART:20210328T010000
END:DAYLIGHT
BEGIN:STANDARD
TZOFFSETFROM:+0200
TZOFFSETTO:+0100
TZNAME:CET
DTSTART:20211031T010000
END:STANDARD
BEGIN:DAYLIGHT
TZOFFSETFROM:+0100
TZOFFSETTO:+0200
TZNAME:CEST
DTSTART:20220327T010000
END:DAYLIGHT
BEGIN:STANDARD
TZOFFSETFROM:+0200
TZOFFSETTO:+0100
TZNAME:CET
DTSTART:20221030T010000
END:STANDARD
END:VTIMEZONE
BEGIN:VEVENT
DTSTART;TZID=Europe/Stockholm:20210428T140000
DTEND;TZID=Europe/Stockholm:20210429T160000
DTSTAMP:20260425T004355
CREATED:20210331T185608Z
LAST-MODIFIED:20210331T185608Z
UID:21294-1619618400-1619712000@kemisamfundet.se
SUMMARY:Webinarium: Grunderna i övergripande MOSH/MOAH-analys
DESCRIPTION:LECO arrangerar ett 2-dagarswebinarium dedikerat till analys av mineraloljekontaminering (MOSH/MOAH) i livsmedel och livsmedelsförpackningar. Varmt välkomna dessa två eftermiddagar där instrumentation och metodologi kommer att presenteras av ledande aktörer i fältet. Mer information och anmälan återfinns vid följande länk: \nhttps://eu.leco.com/events/workshops/online-workshop-mosh-moah-analysis
URL:https://kemisamfundet.se/event/webinarium-grunderna-i-overgripande-mosh-moah-analys/
LOCATION:Online
CATEGORIES:Övriga
ORGANIZER;CN="LECO":MAILTO:info_se@leco.com
END:VEVENT
END:VCALENDAR