BEGIN:VCALENDAR
VERSION:2.0
PRODID:-//Svenska Kemisamfundet - ECPv6.15.19//NONSGML v1.0//EN
CALSCALE:GREGORIAN
METHOD:PUBLISH
X-WR-CALNAME:Svenska Kemisamfundet
X-ORIGINAL-URL:https://kemisamfundet.se
X-WR-CALDESC:Händelser för Svenska Kemisamfundet
REFRESH-INTERVAL;VALUE=DURATION:PT1H
X-Robots-Tag:noindex
X-PUBLISHED-TTL:PT1H
BEGIN:VTIMEZONE
TZID:Europe/Stockholm
BEGIN:DAYLIGHT
TZOFFSETFROM:+0100
TZOFFSETTO:+0200
TZNAME:CEST
DTSTART:20250330T010000
END:DAYLIGHT
BEGIN:STANDARD
TZOFFSETFROM:+0200
TZOFFSETTO:+0100
TZNAME:CET
DTSTART:20251026T010000
END:STANDARD
BEGIN:DAYLIGHT
TZOFFSETFROM:+0100
TZOFFSETTO:+0200
TZNAME:CEST
DTSTART:20260329T010000
END:DAYLIGHT
BEGIN:STANDARD
TZOFFSETFROM:+0200
TZOFFSETTO:+0100
TZNAME:CET
DTSTART:20261025T010000
END:STANDARD
BEGIN:DAYLIGHT
TZOFFSETFROM:+0100
TZOFFSETTO:+0200
TZNAME:CEST
DTSTART:20270328T010000
END:DAYLIGHT
BEGIN:STANDARD
TZOFFSETFROM:+0200
TZOFFSETTO:+0100
TZNAME:CET
DTSTART:20271031T010000
END:STANDARD
END:VTIMEZONE
BEGIN:VEVENT
DTSTART;TZID=Europe/Stockholm:20260613T150000
DTEND;TZID=Europe/Stockholm:20260613T170000
DTSTAMP:20260421T173542
CREATED:20260420T131422Z
LAST-MODIFIED:20260420T131854Z
UID:47663-1781362800-1781370000@kemisamfundet.se
SUMMARY:Kemivandring i Stockholm
DESCRIPTION:Välkommen på kemivandring med Stockholmskretsens Lars Eriksson; från Scheele-statyn i Humlegården via Berzelii park och Järnkontorets lokaler på Kungsträdgårdsgatan\, möjligen till en avslutning på någon restaurang i Gamla stan.. \nPå vägen framställer vi några av de grundämnen som Scheele kan anses vara upptäckare av\, troligen klorgas och syrgas\, diskuterar det synbara mysteriet med att Berzelius kunde framställa kaliummetall ur kaliumkarbonat och kol samt slutligen gör en del historiska nedslag i järnframställningens historia. \nTid och plats: Samling vid Scheelestatyn i Humlegården 13/6 kl 15.00 och sedan promenad mot Gamla stan. Ta gärna med kikare för att kunna syna friser på järnkontorets hus. Vid regn\, medtag paraply \nKommer man sent går det bra att ringa Lasse på 0707-644350 \n/Stockholmskretsen
URL:https://kemisamfundet.se/event/kemivandring-i-stockholm/
LOCATION:Start vid Scheelestatyn i Humlegården\, avslut i Gamla stan. Stokcholm\, Stockholm\, Sweden
CATEGORIES:Kretsevenemang
ATTACH;FMTTYPE=image/jpeg:https://kemisamfundet.se/wp-content/uploads/2026/04/Scheele-staty-Humlegarden-fr-stockholmskonst.se_.jpg
END:VEVENT
END:VCALENDAR