BEGIN:VCALENDAR
VERSION:2.0
PRODID:-//Svenska Kemisamfundet - ECPv6.15.19//NONSGML v1.0//EN
CALSCALE:GREGORIAN
METHOD:PUBLISH
X-ORIGINAL-URL:https://kemisamfundet.se
X-WR-CALDESC:Händelser för Svenska Kemisamfundet
REFRESH-INTERVAL;VALUE=DURATION:PT1H
X-Robots-Tag:noindex
X-PUBLISHED-TTL:PT1H
BEGIN:VTIMEZONE
TZID:Europe/Stockholm
BEGIN:DAYLIGHT
TZOFFSETFROM:+0100
TZOFFSETTO:+0200
TZNAME:CEST
DTSTART:20210328T010000
END:DAYLIGHT
BEGIN:STANDARD
TZOFFSETFROM:+0200
TZOFFSETTO:+0100
TZNAME:CET
DTSTART:20211031T010000
END:STANDARD
BEGIN:DAYLIGHT
TZOFFSETFROM:+0100
TZOFFSETTO:+0200
TZNAME:CEST
DTSTART:20220327T010000
END:DAYLIGHT
BEGIN:STANDARD
TZOFFSETFROM:+0200
TZOFFSETTO:+0100
TZNAME:CET
DTSTART:20221030T010000
END:STANDARD
BEGIN:DAYLIGHT
TZOFFSETFROM:+0100
TZOFFSETTO:+0200
TZNAME:CEST
DTSTART:20230326T010000
END:DAYLIGHT
BEGIN:STANDARD
TZOFFSETFROM:+0200
TZOFFSETTO:+0100
TZNAME:CET
DTSTART:20231029T010000
END:STANDARD
END:VTIMEZONE
BEGIN:VEVENT
DTSTART;TZID=Europe/Stockholm:20220210T190000
DTEND;TZID=Europe/Stockholm:20220210T200000
DTSTAMP:20260425T170619
CREATED:20220126T122404Z
LAST-MODIFIED:20220126T122404Z
UID:23849-1644519600-1644523200@kemisamfundet.se
SUMMARY:Talk from the FEBS Junior Sections: “Bridging academia and bioentrepreneurship”
DESCRIPTION:On February 10\, at 7PM (CET) the young researchers of the FEBS Junior Sections have organized their second online talk of 2022. This one will be on “Bridging academia and bioentrepreneurship”\, by Andreas Laustsen\, from the Technical University of Denmark (DTU). \nAs the youngest Professor in Denmark\, at the age of 34\, he has already founded 6 start-ups\, and will talk about entrepreneurship\, leadership\, creativity… and poisons. Check out the link below to register and for more information: \nhttps://network.febs.org/posts/sebbm-junior-consuls-febs-junior-sections-present-andreas-laustsen \nEach month one of the FEBS Junior Sections organize an online event on either an academic or a career topic. This February talk is organized by the SEBBM Junior Consuls\, the Junior Section of the Spanish Society for Biochemistry and Molecular Biology. Please join us at the talk and share this information with your peers. \nThank you and best wishes\, \nThe FEBS Junior Sections
URL:https://kemisamfundet.se/event/talk-from-the-febs-junior-sections-bridging-academia-and-bioentrepreneurship/
CATEGORIES:SFBBM
ATTACH;FMTTYPE=image/jpeg:https://kemisamfundet.se/wp-content/uploads/2022/01/FEBS-talk-10-feb-2022.jpg
END:VEVENT
END:VCALENDAR