BEGIN:VCALENDAR
VERSION:2.0
PRODID:-//Svenska Kemisamfundet - ECPv6.15.19//NONSGML v1.0//EN
CALSCALE:GREGORIAN
METHOD:PUBLISH
X-ORIGINAL-URL:https://kemisamfundet.se
X-WR-CALDESC:Händelser för Svenska Kemisamfundet
REFRESH-INTERVAL;VALUE=DURATION:PT1H
X-Robots-Tag:noindex
X-PUBLISHED-TTL:PT1H
BEGIN:VTIMEZONE
TZID:Europe/Stockholm
BEGIN:DAYLIGHT
TZOFFSETFROM:+0100
TZOFFSETTO:+0200
TZNAME:CEST
DTSTART:20250330T010000
END:DAYLIGHT
BEGIN:STANDARD
TZOFFSETFROM:+0200
TZOFFSETTO:+0100
TZNAME:CET
DTSTART:20251026T010000
END:STANDARD
BEGIN:DAYLIGHT
TZOFFSETFROM:+0100
TZOFFSETTO:+0200
TZNAME:CEST
DTSTART:20260329T010000
END:DAYLIGHT
BEGIN:STANDARD
TZOFFSETFROM:+0200
TZOFFSETTO:+0100
TZNAME:CET
DTSTART:20261025T010000
END:STANDARD
BEGIN:DAYLIGHT
TZOFFSETFROM:+0100
TZOFFSETTO:+0200
TZNAME:CEST
DTSTART:20270328T010000
END:DAYLIGHT
BEGIN:STANDARD
TZOFFSETFROM:+0200
TZOFFSETTO:+0100
TZNAME:CET
DTSTART:20271031T010000
END:STANDARD
END:VTIMEZONE
BEGIN:VEVENT
DTSTART;TZID=Europe/Stockholm:20260211T180000
DTEND;TZID=Europe/Stockholm:20260211T190000
DTSTAMP:20260425T174214
CREATED:20251201T145446Z
LAST-MODIFIED:20260202T082503Z
UID:46755-1770832800-1770836400@kemisamfundet.se
SUMMARY:INSTÄLLT. Föredrag om Svante Arrhenius - av Jan Malmborg 11 feb kl. 18.00
DESCRIPTION:OBS! Föredraget är uppskjutet och vi återkommer med ett nytt datum vid ett senare tillfälle.  \nVälkommen till en föreläsning om Svante Arrhenius\, en av Sveriges mest inflytelserika vetenskapsmän och ämnet för Jan Malmborgs uppmärksammade biografi. Arrhenius var pionjär inom fysikalisk kemi\, och Nobelpristagare i kemi. Malmborg skildrar en forskare med starkt internationellt engagemang\, ett levande intellekt och en unik förmåga att förena vetenskap med samhällsfrågor. \nVar? Magnelisalen vid Stockholms universitet \nNär? 11 feb kl. 18-19 \nVälkomna! \nGratis för medlemmar i Svenska Kemisamfundet \nEfter föreläsningen bjuder vi på en lättare förtäring. Anmälan till lars.eriksson@mmk.su.se \nStockholmskretsen
URL:https://kemisamfundet.se/event/foredrag-om-svante-arrhenius-av-jan-malmborg-11-feb-kl-18-00/
LOCATION:Magnélisalen\, Stockholms universitet
CATEGORIES:Kretsevenemang
END:VEVENT
END:VCALENDAR