BEGIN:VCALENDAR
VERSION:2.0
PRODID:-//Svenska Kemisamfundet - ECPv6.15.19//NONSGML v1.0//EN
CALSCALE:GREGORIAN
METHOD:PUBLISH
X-ORIGINAL-URL:https://kemisamfundet.se
X-WR-CALDESC:Händelser för Svenska Kemisamfundet
REFRESH-INTERVAL;VALUE=DURATION:PT1H
X-Robots-Tag:noindex
X-PUBLISHED-TTL:PT1H
BEGIN:VTIMEZONE
TZID:Europe/Stockholm
BEGIN:DAYLIGHT
TZOFFSETFROM:+0100
TZOFFSETTO:+0200
TZNAME:CEST
DTSTART:20230326T010000
END:DAYLIGHT
BEGIN:STANDARD
TZOFFSETFROM:+0200
TZOFFSETTO:+0100
TZNAME:CET
DTSTART:20231029T010000
END:STANDARD
BEGIN:DAYLIGHT
TZOFFSETFROM:+0100
TZOFFSETTO:+0200
TZNAME:CEST
DTSTART:20240331T010000
END:DAYLIGHT
BEGIN:STANDARD
TZOFFSETFROM:+0200
TZOFFSETTO:+0100
TZNAME:CET
DTSTART:20241027T010000
END:STANDARD
BEGIN:DAYLIGHT
TZOFFSETFROM:+0100
TZOFFSETTO:+0200
TZNAME:CEST
DTSTART:20250330T010000
END:DAYLIGHT
BEGIN:STANDARD
TZOFFSETFROM:+0200
TZOFFSETTO:+0100
TZNAME:CET
DTSTART:20251026T010000
END:STANDARD
END:VTIMEZONE
BEGIN:VEVENT
DTSTART;VALUE=DATE:20240317
DTEND;VALUE=DATE:20240322
DTSTAMP:20260424T125928
CREATED:20240105T102228Z
LAST-MODIFIED:20240105T102228Z
UID:34729-1710633600-1711065599@kemisamfundet.se
SUMMARY:ACS Spring 2024 - Many Flavors of Chemistry
DESCRIPTION:Join ACS in New Orleans from March 17-21 to get the latest research in chemistry\, network and attend career events. The theme of this meeting is ”Many Flavors of Chemistry” and will explore a variety of topics such as: \n\nFood and flavors\, Zero Hunger\nDiversity\, New Materials\nHealth and Wellness
URL:https://kemisamfundet.se/event/acs-spring-2024-many-flavors-of-chemistry/
LOCATION:New Orleans\, New Orleans\, Louisiana\, Förenta Staterna\, USA
CATEGORIES:Övriga
ATTACH;FMTTYPE=image/jpeg:https://kemisamfundet.se/wp-content/uploads/2024/01/berries-1546125_640.jpg
END:VEVENT
END:VCALENDAR