BEGIN:VCALENDAR
VERSION:2.0
PRODID:-//Svenska Kemisamfundet - ECPv6.15.19//NONSGML v1.0//EN
CALSCALE:GREGORIAN
METHOD:PUBLISH
X-WR-CALNAME:Svenska Kemisamfundet
X-ORIGINAL-URL:https://kemisamfundet.se
X-WR-CALDESC:Händelser för Svenska Kemisamfundet
REFRESH-INTERVAL;VALUE=DURATION:PT1H
X-Robots-Tag:noindex
X-PUBLISHED-TTL:PT1H
BEGIN:VTIMEZONE
TZID:Europe/Stockholm
BEGIN:DAYLIGHT
TZOFFSETFROM:+0100
TZOFFSETTO:+0200
TZNAME:CEST
DTSTART:20230326T010000
END:DAYLIGHT
BEGIN:STANDARD
TZOFFSETFROM:+0200
TZOFFSETTO:+0100
TZNAME:CET
DTSTART:20231029T010000
END:STANDARD
BEGIN:DAYLIGHT
TZOFFSETFROM:+0100
TZOFFSETTO:+0200
TZNAME:CEST
DTSTART:20240331T010000
END:DAYLIGHT
BEGIN:STANDARD
TZOFFSETFROM:+0200
TZOFFSETTO:+0100
TZNAME:CET
DTSTART:20241027T010000
END:STANDARD
BEGIN:DAYLIGHT
TZOFFSETFROM:+0100
TZOFFSETTO:+0200
TZNAME:CEST
DTSTART:20250330T010000
END:DAYLIGHT
BEGIN:STANDARD
TZOFFSETFROM:+0200
TZOFFSETTO:+0100
TZNAME:CET
DTSTART:20251026T010000
END:STANDARD
END:VTIMEZONE
BEGIN:VEVENT
DTSTART;VALUE=DATE:20240624
DTEND;VALUE=DATE:20240829
DTSTAMP:20260422T140745
CREATED:20240411T120809Z
LAST-MODIFIED:20240411T120947Z
UID:36961-1719187200-1724889599@kemisamfundet.se
SUMMARY:IUPAB congress
DESCRIPTION:Get excited for the upcoming IUPAB congress in Kyoto! \nFeaturing Plenary Lectures from: \n\nDr David Baker\nProfessor Toshio Ando\nProfessor Feng Zhang
URL:https://kemisamfundet.se/event/iupab-congress/
LOCATION:Kyoto\, Japan
CATEGORIES:Övriga
ATTACH;FMTTYPE=image/jpeg:https://kemisamfundet.se/wp-content/uploads/2024/04/2024-IUPAB-congress.jpg
END:VEVENT
BEGIN:VEVENT
DTSTART;VALUE=DATE:20240707
DTEND;VALUE=DATE:20240711
DTSTAMP:20260422T140745
CREATED:20240104T090211Z
LAST-MODIFIED:20240104T090624Z
UID:34714-1720310400-1720655999@kemisamfundet.se
SUMMARY:Balticum Organicum Syntheticum 2024
DESCRIPTION:The biennial Balticum Organicum Syntheticum (BOS) is an organic chemistry conference that rotates through Tallinn\, Riga and Vilnius\, the three capitals of the Baltic States. The conference goals are: \n\nto convey the excitement of synthetic organic chemistry as practiced in industry and universities worldwide;\nto promote interactions between chemists of the Baltic States and other countries of the world to create links\, collaborations\, and common research projects in both\, academic and industrial settings;\nshowcase the historical significance\, architecture\, and beauty of the Baltic States. With the participation of many Estonian\, Latvian and Lithuanian chemists\, you will also become aware of the history\, culture\, language\, and social framework of the Baltic States.
URL:https://kemisamfundet.se/event/balticum-organicum-syntheticum-2024/
LOCATION:Riga\, Lettland\, Riga\, Lettland
CATEGORIES:Övriga
ATTACH;FMTTYPE=image/jpeg:https://kemisamfundet.se/wp-content/uploads/2024/01/BOS-2024-event-juli-2024.jpg
END:VEVENT
BEGIN:VEVENT
DTSTART;VALUE=DATE:20240707
DTEND;VALUE=DATE:20240712
DTSTAMP:20260422T140745
CREATED:20231108T150735Z
LAST-MODIFIED:20240104T134755Z
UID:33514-1720310400-1720742399@kemisamfundet.se
SUMMARY:9th EuChemS Chemistry Congress
DESCRIPTION:The Institute of Chemistry of Ireland (ICI) will organize the 9th EuChemS Chemistry Congress (ECC-9)\, to be held in Dublin\, Ireland\, from 7th – 11th July\, 2024. \nThe scientific programme will be focused around eight scientific themes: \n\nAdvances in Synthetic Organic Chemistry (including Asymmetric Methodology\, Inorganic Methodology\, Green Synthetic Methodologies)\nCatalysis (including Organometallic Catalysis\, Organocatalysis\, Biocatalysis\, Photoredox Catalysis\, Electrocatalysis)\nChemistry Meets Biology For Health (including Medicinal\, Bioinorganic\, Bioorganometallic\, Radiochemistry\, Food and Nutrition)\nEducation\, History\, Cultural Heritage\, and Ethics in Chemistry\nEnergy\, Environment and Sustainability (including Emerging Sustainable Chemistry\, Technologies\, Biomass Valorisation\, Green Synthetic Methodologies\, Circular Bioeconomy\, Food)\nNanochemistry/Materials (including Organic and Inorganic\, Material Science\, Devices\, Circuits\, Systems\, Neuromorphic Networks\, and Bio-Inspired Computing)\nPhysical\, Analytical and Computational Chemistry (including Physical chemistry of materials\, Advances in physical chemistry and new techniques\, New analytical methodologies and applications\, Sensors\, Theory and applications of computational chemistry and Machine Learning/AI)\nSupramolecular Chemistry (including Chirality\, Molecular Machines\, Dissipative Systems\, MOFs\, Molecular Nanotopology\, Sensors\, Metallo-Supramolecular Chemistry\, Molecular Logic\, Host-Guest Chemistry\, Self-Assembly Materials and Higher Order Structures)\n\nDeadline for abstract submission has been prolonged to January 15 2024.
URL:https://kemisamfundet.se/event/9th-euchems-chemistry-congress/
LOCATION:Dublin\, Ireland\, University College Dublin\, Dublin\, Irland
CATEGORIES:Övriga
ATTACH;FMTTYPE=image/jpeg:https://kemisamfundet.se/wp-content/uploads/2023/11/9th-euchems-chemistry-congress.jpg
END:VEVENT
END:VCALENDAR