BEGIN:VCALENDAR
VERSION:2.0
PRODID:-//Svenska Kemisamfundet - ECPv6.15.19//NONSGML v1.0//EN
CALSCALE:GREGORIAN
METHOD:PUBLISH
X-ORIGINAL-URL:https://kemisamfundet.se
X-WR-CALDESC:Händelser för Svenska Kemisamfundet
REFRESH-INTERVAL;VALUE=DURATION:PT1H
X-Robots-Tag:noindex
X-PUBLISHED-TTL:PT1H
BEGIN:VTIMEZONE
TZID:Europe/Stockholm
BEGIN:DAYLIGHT
TZOFFSETFROM:+0100
TZOFFSETTO:+0200
TZNAME:CEST
DTSTART:20240331T010000
END:DAYLIGHT
BEGIN:STANDARD
TZOFFSETFROM:+0200
TZOFFSETTO:+0100
TZNAME:CET
DTSTART:20241027T010000
END:STANDARD
BEGIN:DAYLIGHT
TZOFFSETFROM:+0100
TZOFFSETTO:+0200
TZNAME:CEST
DTSTART:20250330T010000
END:DAYLIGHT
BEGIN:STANDARD
TZOFFSETFROM:+0200
TZOFFSETTO:+0100
TZNAME:CET
DTSTART:20251026T010000
END:STANDARD
BEGIN:DAYLIGHT
TZOFFSETFROM:+0100
TZOFFSETTO:+0200
TZNAME:CEST
DTSTART:20260329T010000
END:DAYLIGHT
BEGIN:STANDARD
TZOFFSETFROM:+0200
TZOFFSETTO:+0100
TZNAME:CET
DTSTART:20261025T010000
END:STANDARD
END:VTIMEZONE
BEGIN:VEVENT
DTSTART;TZID=Europe/Stockholm:20250515T181500
DTEND;TZID=Europe/Stockholm:20250515T191500
DTSTAMP:20260421T231254
CREATED:20250508T081753Z
LAST-MODIFIED:20250508T081954Z
UID:45591-1747332900-1747336500@kemisamfundet.se
SUMMARY:Den kosmiska skattjakten: Hur tillverkar universum grundämnen som guld?
DESCRIPTION:Öppen föreläsning av Smaranika Banerjee. \nDatum: torsdag 15 maj 2025 \nTid: 18.15 – 19.15 \nPlats: Oskar Kleins auditorium (FR4)\, AlbaNova universitetscentrum\, Roslagstullsbacken 21 \nSammanfattning:\nAllt omkring oss\, och även vår kropp\, är uppbyggt av grundämnen. Men har du någonsin undrat var dessa element kommer ifrån? Om du har det\, då är den här föreläsningen rätt plats. Här kommer vi att gå på en resa till kosmos för att upptäcka grundämnenas ursprung. Vi kommer att ta reda på varifrån grundämnen som syre som vi andas in kommer ifrån och kommer även att ge oss ut på en ”kosmisk skattjakt” efter guld som vi använder i våra smycken. Så följ med oss och ta reda på mer om hur kosmos skapade alla grundämnena runt omkring oss! \nArrangör: Fysikum\, Stockholms Universitet \nIngen föranmälan krävs\nFöreläsningen kommer hållas på engelska \nLäs mer på su.se: Öppen föreläsning av Smaranika Banerjee – Fysikum \n 
URL:https://kemisamfundet.se/event/den-kosmiska-skattjakten-hur-tillverkar-universum-grundamnen-som-guld/
LOCATION:Oskar Kleins auditorium (FR4)\, AlbaNova universitetscentrum\, Roslagstullsbacken 21\, Stockholm\, Stockholm
CATEGORIES:Övriga
ATTACH;FMTTYPE=image/jpeg:https://kemisamfundet.se/wp-content/uploads/2025/05/Smaranika-Banerjee-event-15-maj-2025.jpg
END:VEVENT
END:VCALENDAR