BEGIN:VCALENDAR
VERSION:2.0
PRODID:-//Svenska Kemisamfundet - ECPv6.15.19//NONSGML v1.0//EN
CALSCALE:GREGORIAN
METHOD:PUBLISH
X-ORIGINAL-URL:https://kemisamfundet.se
X-WR-CALDESC:Händelser för Svenska Kemisamfundet
REFRESH-INTERVAL;VALUE=DURATION:PT1H
X-Robots-Tag:noindex
X-PUBLISHED-TTL:PT1H
BEGIN:VTIMEZONE
TZID:Europe/Stockholm
BEGIN:DAYLIGHT
TZOFFSETFROM:+0100
TZOFFSETTO:+0200
TZNAME:CEST
DTSTART:20240331T010000
END:DAYLIGHT
BEGIN:STANDARD
TZOFFSETFROM:+0200
TZOFFSETTO:+0100
TZNAME:CET
DTSTART:20241027T010000
END:STANDARD
BEGIN:DAYLIGHT
TZOFFSETFROM:+0100
TZOFFSETTO:+0200
TZNAME:CEST
DTSTART:20250330T010000
END:DAYLIGHT
BEGIN:STANDARD
TZOFFSETFROM:+0200
TZOFFSETTO:+0100
TZNAME:CET
DTSTART:20251026T010000
END:STANDARD
BEGIN:DAYLIGHT
TZOFFSETFROM:+0100
TZOFFSETTO:+0200
TZNAME:CEST
DTSTART:20260329T010000
END:DAYLIGHT
BEGIN:STANDARD
TZOFFSETFROM:+0200
TZOFFSETTO:+0100
TZNAME:CET
DTSTART:20261025T010000
END:STANDARD
END:VTIMEZONE
BEGIN:VEVENT
DTSTART;VALUE=DATE:20250712
DTEND;VALUE=DATE:20250720
DTSTAMP:20260421T200610
CREATED:20240926T113832Z
LAST-MODIFIED:20240926T114322Z
UID:41188-1752278400-1752969599@kemisamfundet.se
SUMMARY:53rd IUPAC World Chemistry Congress and General Assembly
DESCRIPTION:General Assembly: 12-15 juli \nWorld Chemistry Congress: 14-19 juli \nThis marks the first time that the IUPAC Congress and General Assembly are taking place in an ASEAN country\, and this has created immense enthusiasm and excitement among chemists from this part of the world. The theme of IUPAC 2025\, “Chemistry for Sustainable Future”\, underscores our commitment to exploring chemistry’s pivotal role in addressing global sustainability challenges. In addition to the scientific sessions on various disciplines in chemistry\, IUPAC 2025 also includes a special cluster of symposia on “Chemistry and Sustainable Development Goals (SDG)” focusing on chemistry providing solutions and remedies to SDGs. As we celebrate the 50th Edition of the biennial World Chemistry Congress\, we’ll also commemorate “100 years of Excellence in Chemistry Research and Innovations” at the 50WCC. Additionally\, there will also be a cluster of special themed symposia covering topics such as gender\, diversity\, equity & inclusiveness\, professionalism & code of ethics\, young chemists’ networks\, world chemistry leadership programmes\, chemical weapons convention\, emerging technologies & innovations in chemistry\, and other relevant subjects.
URL:https://kemisamfundet.se/event/iupac-world-chemistry-congress-and-general-assembly/
LOCATION:Kuala Lumpur Convention Centre\, Malaysia
CATEGORIES:Övriga
ATTACH;FMTTYPE=image/jpeg:https://kemisamfundet.se/wp-content/uploads/2024/09/IUPAC-General-Assembly-2025.jpg
END:VEVENT
END:VCALENDAR