BEGIN:VCALENDAR
VERSION:2.0
PRODID:-//Svenska Kemisamfundet - ECPv6.15.19//NONSGML v1.0//EN
CALSCALE:GREGORIAN
METHOD:PUBLISH
X-ORIGINAL-URL:https://kemisamfundet.se
X-WR-CALDESC:Händelser för Svenska Kemisamfundet
REFRESH-INTERVAL;VALUE=DURATION:PT1H
X-Robots-Tag:noindex
X-PUBLISHED-TTL:PT1H
BEGIN:VTIMEZONE
TZID:Europe/Stockholm
BEGIN:DAYLIGHT
TZOFFSETFROM:+0100
TZOFFSETTO:+0200
TZNAME:CEST
DTSTART:20240331T010000
END:DAYLIGHT
BEGIN:STANDARD
TZOFFSETFROM:+0200
TZOFFSETTO:+0100
TZNAME:CET
DTSTART:20241027T010000
END:STANDARD
BEGIN:DAYLIGHT
TZOFFSETFROM:+0100
TZOFFSETTO:+0200
TZNAME:CEST
DTSTART:20250330T010000
END:DAYLIGHT
BEGIN:STANDARD
TZOFFSETFROM:+0200
TZOFFSETTO:+0100
TZNAME:CET
DTSTART:20251026T010000
END:STANDARD
BEGIN:DAYLIGHT
TZOFFSETFROM:+0100
TZOFFSETTO:+0200
TZNAME:CEST
DTSTART:20260329T010000
END:DAYLIGHT
BEGIN:STANDARD
TZOFFSETFROM:+0200
TZOFFSETTO:+0100
TZNAME:CET
DTSTART:20261025T010000
END:STANDARD
END:VTIMEZONE
BEGIN:VEVENT
DTSTART;TZID=Europe/Stockholm:20251113T090000
DTEND;TZID=Europe/Stockholm:20251113T170000
DTSTAMP:20260421T135001
CREATED:20250930T081335Z
LAST-MODIFIED:20250930T081808Z
UID:46373-1763024400-1763053200@kemisamfundet.se
SUMMARY:The Scheele Symposium 2025 - Lipid nanoparticles: Revolutionizing drug delivery
DESCRIPTION:Welcome to the Scheele Symposium in honour of the 2025 Scheele Award laureate\, Professor Pieter Cullis.   \nThe symposium focuses on various aspects of his research which spans over several decades and has had a significant impact on both the scientific community and patients. \nOverall\, the symposium in honour of Professor Pieter Cullis work promises to be a stimulating and informative event that highlights the remarkable achievements of one of the leading figures in groundbreaking drug delivery systems and offers an opportunity for researchers to engage in meaningful discussions and collaborations. Drug delivery of new drug modalities using lipid nanoparticles within several different therapeutical areas will be highlighted during the day.
URL:https://kemisamfundet.se/event/the-scheele-symposium-2025-lipid-nanoparticles-revolutionizing-drug-delivery/
CATEGORIES:Övriga
ATTACH;FMTTYPE=image/jpeg:https://kemisamfundet.se/wp-content/uploads/2025/09/mote-Banner-Scheele_forelasare_Linkedin.jpg
END:VEVENT
BEGIN:VEVENT
DTSTART;VALUE=DATE:20251124
DTEND;VALUE=DATE:20251126
DTSTAMP:20260421T135001
CREATED:20250213T151109Z
LAST-MODIFIED:20250213T151109Z
UID:44559-1763942400-1764115199@kemisamfundet.se
SUMMARY:Fortbildningsdagarna 2025 i Karlstad
DESCRIPTION:Fortbildningsdagarna 2025 äger rum den 24-25 november på Karlstads universitet. \nNationalkommittén för kemis Fortbildningsdagar är en årlig fortbildningsaktivitet för kemilärare. Deltagarna är lärare i årskurs 7-9 samt gymnasiet och antalet platser brukar vara begränsat till ca 80 st. \nDeltagarna får själva bekosta resa och inkvartering. \nGenom att Fortbildningsdagarna flyttar runt mellan de olika lärosätena får föreläsningarna lokal prägel och programmet varierar år från år.
URL:https://kemisamfundet.se/event/fortbildningsdagarna-2025-i-karlstad/
CATEGORIES:Övriga
ATTACH;FMTTYPE=image/jpeg:https://kemisamfundet.se/wp-content/uploads/2025/02/Fortbildningsdagarna-nkk-bild-1200.jpg
END:VEVENT
END:VCALENDAR